BEGIN:VCALENDAR
VERSION:2.0
PRODID:-//Future Lab Aachen - ECPv6.15.15//NONSGML v1.0//EN
CALSCALE:GREGORIAN
METHOD:PUBLISH
X-WR-CALNAME:Future Lab Aachen
X-ORIGINAL-URL:https://futurelab-aachen.de
X-WR-CALDESC:Veranstaltungen für Future Lab Aachen
REFRESH-INTERVAL;VALUE=DURATION:PT1H
X-Robots-Tag:noindex
X-PUBLISHED-TTL:PT1H
BEGIN:VTIMEZONE
TZID:Europe/Berlin
BEGIN:DAYLIGHT
TZOFFSETFROM:+0100
TZOFFSETTO:+0200
TZNAME:CEST
DTSTART:20250330T010000
END:DAYLIGHT
BEGIN:STANDARD
TZOFFSETFROM:+0200
TZOFFSETTO:+0100
TZNAME:CET
DTSTART:20251026T010000
END:STANDARD
BEGIN:DAYLIGHT
TZOFFSETFROM:+0100
TZOFFSETTO:+0200
TZNAME:CEST
DTSTART:20260329T010000
END:DAYLIGHT
BEGIN:STANDARD
TZOFFSETFROM:+0200
TZOFFSETTO:+0100
TZNAME:CET
DTSTART:20261025T010000
END:STANDARD
BEGIN:DAYLIGHT
TZOFFSETFROM:+0100
TZOFFSETTO:+0200
TZNAME:CEST
DTSTART:20270328T010000
END:DAYLIGHT
BEGIN:STANDARD
TZOFFSETFROM:+0200
TZOFFSETTO:+0100
TZNAME:CET
DTSTART:20271031T010000
END:STANDARD
END:VTIMEZONE
BEGIN:VEVENT
DTSTART;VALUE=DATE:20260517
DTEND;VALUE=DATE:20260824
DTSTAMP:20260421T104516
CREATED:20260421T052054Z
LAST-MODIFIED:20260421T052054Z
UID:34728-1778976000-1787529599@futurelab-aachen.de
SUMMARY:100 Jahre CHIO
DESCRIPTION:Gruppenspringen? Walkürenritt? Pferdeschwänze? Großer Preis von Aachen? – 100 Jahre CHIO Aachen haben den Reitsport mit geprägt. Das Turnier hat immer wieder die besten Reiter*innen ihrer Zeit angezogen und mancherlei Besonderheiten herausgebildet\, die es so nur in Aachen gibt. Bis heute werden hier Traditionen gepflegt\, aber immer auch neue Formate und Regularien entwickelt und erprobt\, bei denen das Wohl des „Sportpartners Pferd“ heute weit oben steht. \nDie in Zusammenarbeit mit dem Museum des Aachen-Laurensberger Rennvereins erstellte Fotoausstellung gibt Einblicke in die lange Geschichte des CHIO. Einmalige Bilddokumente zeigen reitsportliche Entwicklungen auf und weisen zugleich auf die enge Verquickung von Politik und Sport auch in Aachen hin. Die Turniergeschichte umfasst auch die Folgen beider Weltkriege\, und damit auch die große Chance\, in den Nachkriegsjahrzehnten mit internationalen Turnieren die „Politik des Grünen Rasens“ zur erneuten Völkerverständigung zu nutzen und das CHIO vom ersten Reit-\, Spring- und Fahrturnier 1925 zum „Weltfest des Pferdesports“ mit 5 Disziplinen weiterzuentwickeln. \nDer CHIO Aachen gilt heute als größte Pferdesportveranstaltung der Welt – hochklassig\, emotional\, international. Pferde und Menschen können hier Erfolgsgeschichten schreiben und zu Legenden werden. Auch da gibt es in der Ausstellung manches Wiedersehen! \nDie Ausstellung wird im Foyer des Centre Charlemagne gezeigt und ist kostenfrei zugänglich. \nWeitere Infos
URL:https://futurelab-aachen.de/event/100-jahre-chio/
LOCATION:Centre Charlemagne – Neues Stadtmuseum Aachen\, Katschhof 1\, Aachen\, 52062\, Deutschland
CATEGORIES:Ausstellung
END:VEVENT
END:VCALENDAR