BEGIN:VCALENDAR
VERSION:2.0
PRODID:-//Future Lab Aachen - ECPv6.15.15//NONSGML v1.0//EN
CALSCALE:GREGORIAN
METHOD:PUBLISH
X-WR-CALNAME:Future Lab Aachen
X-ORIGINAL-URL:https://futurelab-aachen.de
X-WR-CALDESC:Veranstaltungen für Future Lab Aachen
REFRESH-INTERVAL;VALUE=DURATION:PT1H
X-Robots-Tag:noindex
X-PUBLISHED-TTL:PT1H
BEGIN:VTIMEZONE
TZID:Europe/Berlin
BEGIN:DAYLIGHT
TZOFFSETFROM:+0100
TZOFFSETTO:+0200
TZNAME:CEST
DTSTART:20250330T010000
END:DAYLIGHT
BEGIN:STANDARD
TZOFFSETFROM:+0200
TZOFFSETTO:+0100
TZNAME:CET
DTSTART:20251026T010000
END:STANDARD
BEGIN:DAYLIGHT
TZOFFSETFROM:+0100
TZOFFSETTO:+0200
TZNAME:CEST
DTSTART:20260329T010000
END:DAYLIGHT
BEGIN:STANDARD
TZOFFSETFROM:+0200
TZOFFSETTO:+0100
TZNAME:CET
DTSTART:20261025T010000
END:STANDARD
BEGIN:DAYLIGHT
TZOFFSETFROM:+0100
TZOFFSETTO:+0200
TZNAME:CEST
DTSTART:20270328T010000
END:DAYLIGHT
BEGIN:STANDARD
TZOFFSETFROM:+0200
TZOFFSETTO:+0100
TZNAME:CET
DTSTART:20271031T010000
END:STANDARD
END:VTIMEZONE
BEGIN:VEVENT
DTSTART;TZID=Europe/Berlin:20260610T180000
DTEND;TZID=Europe/Berlin:20260610T200000
DTSTAMP:20260420T143324
CREATED:20260420T091700Z
LAST-MODIFIED:20260420T091700Z
UID:34663-1781114400-1781121600@futurelab-aachen.de
SUMMARY:Barock: Opulenz & Ornament
DESCRIPTION:Ausstellungseröffnung: Barocke Klänge treffen auf leuchtende Formen – ein Dialog zwischen Musik und Bildkunst \nKünstler*innen des Atelierhaus Aachen präsentieren zeitgenössische Werke\, die die Opulenz und Pracht des Barock und den Zweiklang von Diesseits und Jenseits in Malerei\, Objektkunst und Fotografie ganz unterschiedlich interpretieren. Im Anschluss an die Ausstellungseröffnung mit einem musikalischen Beitrag unter der künstlerischen Leitung von Prof. Timo Handschuh findet im Foyer der Hochschule ein kleiner Umtrunk statt. \nDie Ausstellung läuft vom Mittwoch\, 10. Juni bis Freitag\, 17. Juli. Der Eintritt ist frei. \nEine Kooperation mit dem Atelierhaus Aachen. \n 
URL:https://futurelab-aachen.de/event/barock-opulenz-ornament/
LOCATION:Foyer Hochschule für Musik und Tanz
CATEGORIES:Ausstellung
END:VEVENT
END:VCALENDAR