BEGIN:VCALENDAR
VERSION:2.0
PRODID:-//Future Lab Aachen - ECPv6.15.15//NONSGML v1.0//EN
CALSCALE:GREGORIAN
METHOD:PUBLISH
X-WR-CALNAME:Future Lab Aachen
X-ORIGINAL-URL:https://futurelab-aachen.de
X-WR-CALDESC:Veranstaltungen für Future Lab Aachen
REFRESH-INTERVAL;VALUE=DURATION:PT1H
X-Robots-Tag:noindex
X-PUBLISHED-TTL:PT1H
BEGIN:VTIMEZONE
TZID:Europe/Berlin
BEGIN:DAYLIGHT
TZOFFSETFROM:+0100
TZOFFSETTO:+0200
TZNAME:CEST
DTSTART:20250330T010000
END:DAYLIGHT
BEGIN:STANDARD
TZOFFSETFROM:+0200
TZOFFSETTO:+0100
TZNAME:CET
DTSTART:20251026T010000
END:STANDARD
BEGIN:DAYLIGHT
TZOFFSETFROM:+0100
TZOFFSETTO:+0200
TZNAME:CEST
DTSTART:20260329T010000
END:DAYLIGHT
BEGIN:STANDARD
TZOFFSETFROM:+0200
TZOFFSETTO:+0100
TZNAME:CET
DTSTART:20261025T010000
END:STANDARD
BEGIN:DAYLIGHT
TZOFFSETFROM:+0100
TZOFFSETTO:+0200
TZNAME:CEST
DTSTART:20270328T010000
END:DAYLIGHT
BEGIN:STANDARD
TZOFFSETFROM:+0200
TZOFFSETTO:+0100
TZNAME:CET
DTSTART:20271031T010000
END:STANDARD
END:VTIMEZONE
BEGIN:VEVENT
DTSTART;TZID=Europe/Berlin:20260416T193000
DTEND;TZID=Europe/Berlin:20260416T210000
DTSTAMP:20260421T102329
CREATED:20260217T140504Z
LAST-MODIFIED:20260310T135327Z
UID:34201-1776367800-1776373200@futurelab-aachen.de
SUMMARY:Die Gletscher: Von der letzten Eiszeit bis morgen
DESCRIPTION:Online-Vortrag von Dr. Andrea Fischer:\nDer Rückgang der Gebirgsgletscher zählt zu den sichtbarsten Auswirkungen des globalen Klimawandels. Die Frage\, wie lange es die Gletscher der Erde noch gibt und welche Folgen ihr Verschwinden haben wird\, betrifft uns alle. Die renommierte Gletscherforscherin Andrea Fischer erklärt anschaulich\, wie die Gletscher entstanden sind und wie sie die Landschaft geformt haben. Zudem erzählt sie von der Faszination der Gletscher und der gemeinsamen Geschichte von Menschen und Gletschern. Was aber würde deren Verlust für den Planeten bedeuten? Und können die Gletscher wiederkommen?\nAndrea Fischer ist Gletscherforscherin und stellvertretende Direktorin des Instituts für interdisziplinäre Gebirgsforschung der Österreichischen Akademie der Wissenschaften. Für ihre Forschungen wurde sie mehrfach ausgezeichnet\, u.a. als Wissenschaftlerin des Jahres 2023. \nEine Online-Veranstaltung der Volkshochschule innerhalb der Reihe vhs.wissen live. \nAnmeldung: über die Website der vhs Aachen
URL:https://futurelab-aachen.de/event/die-gletscher-von-der-letzten-eiszeit-bis-morgen/
LOCATION:Online
CATEGORIES:Vortrag
END:VEVENT
END:VCALENDAR