BEGIN:VCALENDAR
VERSION:2.0
PRODID:-//Future Lab Aachen - ECPv6.15.15//NONSGML v1.0//EN
CALSCALE:GREGORIAN
METHOD:PUBLISH
X-WR-CALNAME:Future Lab Aachen
X-ORIGINAL-URL:https://futurelab-aachen.de
X-WR-CALDESC:Veranstaltungen für Future Lab Aachen
REFRESH-INTERVAL;VALUE=DURATION:PT1H
X-Robots-Tag:noindex
X-PUBLISHED-TTL:PT1H
BEGIN:VTIMEZONE
TZID:Europe/Berlin
BEGIN:DAYLIGHT
TZOFFSETFROM:+0100
TZOFFSETTO:+0200
TZNAME:CEST
DTSTART:20250330T010000
END:DAYLIGHT
BEGIN:STANDARD
TZOFFSETFROM:+0200
TZOFFSETTO:+0100
TZNAME:CET
DTSTART:20251026T010000
END:STANDARD
BEGIN:DAYLIGHT
TZOFFSETFROM:+0100
TZOFFSETTO:+0200
TZNAME:CEST
DTSTART:20260329T010000
END:DAYLIGHT
BEGIN:STANDARD
TZOFFSETFROM:+0200
TZOFFSETTO:+0100
TZNAME:CET
DTSTART:20261025T010000
END:STANDARD
BEGIN:DAYLIGHT
TZOFFSETFROM:+0100
TZOFFSETTO:+0200
TZNAME:CEST
DTSTART:20270328T010000
END:DAYLIGHT
BEGIN:STANDARD
TZOFFSETFROM:+0200
TZOFFSETTO:+0100
TZNAME:CET
DTSTART:20271031T010000
END:STANDARD
END:VTIMEZONE
BEGIN:VEVENT
DTSTART;TZID=Europe/Berlin:20260829T190000
DTEND;TZID=Europe/Berlin:20260829T220000
DTSTAMP:20260420T174834
CREATED:20260420T122121Z
LAST-MODIFIED:20260420T122121Z
UID:34718-1788030000-1788040800@futurelab-aachen.de
SUMMARY:Eröffnungskonzert
DESCRIPTION:Eröffnung des „Mozarte International Piano Competition & Festival 2026“. \nMit Werken von W. A. Mozart\, Clara Schumann\, F. Mendelssohn Bartholdy. \nKammerorchester der Hochschule für Musik und Tanz Köln\, Standort Aachen. \nLeitung: Prof. Timo Handschuh.
URL:https://futurelab-aachen.de/event/eroeffnungskonzert/
LOCATION:HfMT\, Konzertsaal\, Theaterplatz\, Aachen\, 52062\, Deutschland
CATEGORIES:Konzert
END:VEVENT
END:VCALENDAR