BEGIN:VCALENDAR
VERSION:2.0
PRODID:-//Future Lab Aachen - ECPv6.15.15//NONSGML v1.0//EN
CALSCALE:GREGORIAN
METHOD:PUBLISH
X-WR-CALNAME:Future Lab Aachen
X-ORIGINAL-URL:https://futurelab-aachen.de
X-WR-CALDESC:Veranstaltungen für Future Lab Aachen
REFRESH-INTERVAL;VALUE=DURATION:PT1H
X-Robots-Tag:noindex
X-PUBLISHED-TTL:PT1H
BEGIN:VTIMEZONE
TZID:Europe/Berlin
BEGIN:DAYLIGHT
TZOFFSETFROM:+0100
TZOFFSETTO:+0200
TZNAME:CEST
DTSTART:20240331T010000
END:DAYLIGHT
BEGIN:STANDARD
TZOFFSETFROM:+0200
TZOFFSETTO:+0100
TZNAME:CET
DTSTART:20241027T010000
END:STANDARD
BEGIN:DAYLIGHT
TZOFFSETFROM:+0100
TZOFFSETTO:+0200
TZNAME:CEST
DTSTART:20250330T010000
END:DAYLIGHT
BEGIN:STANDARD
TZOFFSETFROM:+0200
TZOFFSETTO:+0100
TZNAME:CET
DTSTART:20251026T010000
END:STANDARD
BEGIN:DAYLIGHT
TZOFFSETFROM:+0100
TZOFFSETTO:+0200
TZNAME:CEST
DTSTART:20260329T010000
END:DAYLIGHT
BEGIN:STANDARD
TZOFFSETFROM:+0200
TZOFFSETTO:+0100
TZNAME:CET
DTSTART:20261025T010000
END:STANDARD
END:VTIMEZONE
BEGIN:VEVENT
DTSTART;TZID=Europe/Berlin:20250514T181500
DTEND;TZID=Europe/Berlin:20250514T210000
DTSTAMP:20260421T215210
CREATED:20250507T104804Z
LAST-MODIFIED:20250507T130531Z
UID:33010-1747246500-1747256400@futurelab-aachen.de
SUMMARY:EU Democratic Governance
DESCRIPTION:Ein Jahr nach den Europawahlen stellt sich die Frage: Welche Auswirkungen haben die Wahlergebnisse auf die europäische Politik? Welche Prioritäten setzt die neue EU-Kommission unter Ursula von der Leyen? Und wie belastbar sind die demokratischen Strukturen der Europäischen Union in Krisenzeiten? \nDer Krieg in der Ukraine hat die europäische Verfassungsordnung herausgefordert und die Grenzen des bestehenden Vertragswerks offengelegt. Welche Reformen und strukturellen Veränderungen sind notwendig und möglich\, um die EU zukunftsfähig zu machen? Mit diesen Fragen beschäftigen sich Prof. Dr. Christine Neuhold und Prof. Dr. Federico Fabbrini. Nach kurzen Impulsvorträgen folgt eine interaktive Diskussion mit dem Publikum über die aktuellen Herausforderungen und die Zukunft der europäischen Institutionen. \nProf. Dr. Jared Somnicksen moderiert die Veranstaltung\, die in englischer Sprache abgehalten wird. Der Eintritt ist frei\, die Veranstalter sind der Internationaler Karlspreis\, die RWTH Aachen und die Stadt Aachen. \nWeitere Infos und Termine des Rahmenprogramms zum Karlspreis 2025
URL:https://futurelab-aachen.de/event/eu-democratic-governance/
LOCATION:RWTH Hauptgebäude HS1
CATEGORIES:Vortrag
END:VEVENT
END:VCALENDAR