BEGIN:VCALENDAR
VERSION:2.0
PRODID:-//Future Lab Aachen - ECPv6.15.15//NONSGML v1.0//EN
CALSCALE:GREGORIAN
METHOD:PUBLISH
X-WR-CALNAME:Future Lab Aachen
X-ORIGINAL-URL:https://futurelab-aachen.de
X-WR-CALDESC:Veranstaltungen für Future Lab Aachen
REFRESH-INTERVAL;VALUE=DURATION:PT1H
X-Robots-Tag:noindex
X-PUBLISHED-TTL:PT1H
BEGIN:VTIMEZONE
TZID:Europe/Berlin
BEGIN:DAYLIGHT
TZOFFSETFROM:+0100
TZOFFSETTO:+0200
TZNAME:CEST
DTSTART:20250330T010000
END:DAYLIGHT
BEGIN:STANDARD
TZOFFSETFROM:+0200
TZOFFSETTO:+0100
TZNAME:CET
DTSTART:20251026T010000
END:STANDARD
BEGIN:DAYLIGHT
TZOFFSETFROM:+0100
TZOFFSETTO:+0200
TZNAME:CEST
DTSTART:20260329T010000
END:DAYLIGHT
BEGIN:STANDARD
TZOFFSETFROM:+0200
TZOFFSETTO:+0100
TZNAME:CET
DTSTART:20261025T010000
END:STANDARD
BEGIN:DAYLIGHT
TZOFFSETFROM:+0100
TZOFFSETTO:+0200
TZNAME:CEST
DTSTART:20270328T010000
END:DAYLIGHT
BEGIN:STANDARD
TZOFFSETFROM:+0200
TZOFFSETTO:+0100
TZNAME:CET
DTSTART:20271031T010000
END:STANDARD
END:VTIMEZONE
BEGIN:VEVENT
DTSTART;TZID=Europe/Berlin:20260629T190000
DTEND;TZID=Europe/Berlin:20260629T210000
DTSTAMP:20260421T101211
CREATED:20260224T101905Z
LAST-MODIFIED:20260310T143520Z
UID:34310-1782759600-1782766800@futurelab-aachen.de
SUMMARY:Feminismus
DESCRIPTION:Vortrag von Agnes Imhof:\nAls „älteste Menschenrechtsbewegung der Welt“ war und ist der Feminismus ebenso global wie divers und vereint in sich eine ganze Vielzahl von Strömungen und Positionen. In ihrem 2024 bei DuMont erschienenen Buch über die Geschichte des Feminismus beleuchtet die Islamwissenschaftlerin und Schriftstellerin Agnes Imhof bürgerliche und proletarische Frauenbewegungen ebenso wie antikoloniale in Afrika und Lateinamerika. Immer wieder\, auch das machen Imhofs inspirierende Porträts von außergewöhnlich mutig und leidenschaftlich kämpfenden Frauen (nicht zuletzt in der islamischen Welt) deutlich\, werden Zeiten des patriarchalen Backlashs von Epochen des politischen Aufbruchs und der sozialen Emanzipation abgelöst. \nAnmeldung: über die Website der vhs Aachen
URL:https://futurelab-aachen.de/event/feminismus/
LOCATION:VHS Aachen\, Peterstr. 21-25\, Aachen\, 52062\, Deutschland
CATEGORIES:Vortrag
END:VEVENT
END:VCALENDAR