BEGIN:VCALENDAR
VERSION:2.0
PRODID:-//Future Lab Aachen - ECPv6.15.15//NONSGML v1.0//EN
CALSCALE:GREGORIAN
METHOD:PUBLISH
X-WR-CALNAME:Future Lab Aachen
X-ORIGINAL-URL:https://futurelab-aachen.de
X-WR-CALDESC:Veranstaltungen für Future Lab Aachen
REFRESH-INTERVAL;VALUE=DURATION:PT1H
X-Robots-Tag:noindex
X-PUBLISHED-TTL:PT1H
BEGIN:VTIMEZONE
TZID:Europe/Berlin
BEGIN:DAYLIGHT
TZOFFSETFROM:+0100
TZOFFSETTO:+0200
TZNAME:CEST
DTSTART:20250330T010000
END:DAYLIGHT
BEGIN:STANDARD
TZOFFSETFROM:+0200
TZOFFSETTO:+0100
TZNAME:CET
DTSTART:20251026T010000
END:STANDARD
BEGIN:DAYLIGHT
TZOFFSETFROM:+0100
TZOFFSETTO:+0200
TZNAME:CEST
DTSTART:20260329T010000
END:DAYLIGHT
BEGIN:STANDARD
TZOFFSETFROM:+0200
TZOFFSETTO:+0100
TZNAME:CET
DTSTART:20261025T010000
END:STANDARD
BEGIN:DAYLIGHT
TZOFFSETFROM:+0100
TZOFFSETTO:+0200
TZNAME:CEST
DTSTART:20270328T010000
END:DAYLIGHT
BEGIN:STANDARD
TZOFFSETFROM:+0200
TZOFFSETTO:+0100
TZNAME:CET
DTSTART:20271031T010000
END:STANDARD
END:VTIMEZONE
BEGIN:VEVENT
DTSTART;TZID=Europe/Berlin:20261114T193000
DTEND;TZID=Europe/Berlin:20261114T220000
DTSTAMP:20260420T174828
CREATED:20260420T122942Z
LAST-MODIFIED:20260420T122942Z
UID:34724-1794684600-1794693600@futurelab-aachen.de
SUMMARY:Festkonzert
DESCRIPTION:Charles Tournemire: Orchestersuite zur Oper „Le petit pauvre d’Assise“ (Welturaufführung) \nLudwig van Beethoven: Violinkonzert D-Dur\nVioline: Baiba Skride\nSinfonieorchester der HfMT Köln/Standort Aachen\nLeitung: Prof. Timo Handschuh \n 
URL:https://futurelab-aachen.de/event/festkonzert/
LOCATION:Aachener Dom\, Domhof 1\, Aachen\, 52062\, Deutschland
CATEGORIES:Konzert
END:VEVENT
END:VCALENDAR