BEGIN:VCALENDAR
VERSION:2.0
PRODID:-//Future Lab Aachen - ECPv6.15.15//NONSGML v1.0//EN
CALSCALE:GREGORIAN
METHOD:PUBLISH
X-WR-CALNAME:Future Lab Aachen
X-ORIGINAL-URL:https://futurelab-aachen.de
X-WR-CALDESC:Veranstaltungen für Future Lab Aachen
REFRESH-INTERVAL;VALUE=DURATION:PT1H
X-Robots-Tag:noindex
X-PUBLISHED-TTL:PT1H
BEGIN:VTIMEZONE
TZID:Europe/Berlin
BEGIN:DAYLIGHT
TZOFFSETFROM:+0100
TZOFFSETTO:+0200
TZNAME:CEST
DTSTART:20230326T010000
END:DAYLIGHT
BEGIN:STANDARD
TZOFFSETFROM:+0200
TZOFFSETTO:+0100
TZNAME:CET
DTSTART:20231029T010000
END:STANDARD
BEGIN:DAYLIGHT
TZOFFSETFROM:+0100
TZOFFSETTO:+0200
TZNAME:CEST
DTSTART:20240331T010000
END:DAYLIGHT
BEGIN:STANDARD
TZOFFSETFROM:+0200
TZOFFSETTO:+0100
TZNAME:CET
DTSTART:20241027T010000
END:STANDARD
BEGIN:DAYLIGHT
TZOFFSETFROM:+0100
TZOFFSETTO:+0200
TZNAME:CEST
DTSTART:20250330T010000
END:DAYLIGHT
BEGIN:STANDARD
TZOFFSETFROM:+0200
TZOFFSETTO:+0100
TZNAME:CET
DTSTART:20251026T010000
END:STANDARD
END:VTIMEZONE
BEGIN:VEVENT
DTSTART;TZID=Europe/Berlin:20240111T180000
DTEND;TZID=Europe/Berlin:20240111T193000
DTSTAMP:20260419T151443
CREATED:20231212T150119Z
LAST-MODIFIED:20231212T150119Z
UID:30897-1704996000-1705001400@futurelab-aachen.de
SUMMARY:Frauen am Reiff
DESCRIPTION:Das Projekt „Frauen am Reiff“ des Lehrstuhls für Kunstgeschichte geht in die nächste Runde. In der Vortragsreihe werden verschiedene Perspektiven der Karriereplanung für Architektinnen aufgezeigt. Dazu sind Expertinnen aus der Architektur eingeladen\, die Wege abseits der Arbeit in einem klassischen Architekturbüro beschritten haben. \nDie Vorträge finden nun jeden Monat\, immer donnerstags um 18 Uhr im R5 oder online statt. \nHörsaal R5\, Reiff-Museum \nKatharina Benjamin (Kontextur Leipzig) Female Networks in architecture \n 
URL:https://futurelab-aachen.de/event/frauen-am-reiff-2-2/
LOCATION:RWTH Aachen\, Reiffmuseum\, Schinkelstraße 1\, Aachen\, 52062\, Deutschland
CATEGORIES:Vortrag
END:VEVENT
END:VCALENDAR