BEGIN:VCALENDAR
VERSION:2.0
PRODID:-//Future Lab Aachen - ECPv6.15.15//NONSGML v1.0//EN
CALSCALE:GREGORIAN
METHOD:PUBLISH
X-WR-CALNAME:Future Lab Aachen
X-ORIGINAL-URL:https://futurelab-aachen.de
X-WR-CALDESC:Veranstaltungen für Future Lab Aachen
REFRESH-INTERVAL;VALUE=DURATION:PT1H
X-Robots-Tag:noindex
X-PUBLISHED-TTL:PT1H
BEGIN:VTIMEZONE
TZID:Europe/Berlin
BEGIN:DAYLIGHT
TZOFFSETFROM:+0100
TZOFFSETTO:+0200
TZNAME:CEST
DTSTART:20180325T010000
END:DAYLIGHT
BEGIN:STANDARD
TZOFFSETFROM:+0200
TZOFFSETTO:+0100
TZNAME:CET
DTSTART:20181028T010000
END:STANDARD
BEGIN:DAYLIGHT
TZOFFSETFROM:+0100
TZOFFSETTO:+0200
TZNAME:CEST
DTSTART:20190331T010000
END:DAYLIGHT
BEGIN:STANDARD
TZOFFSETFROM:+0200
TZOFFSETTO:+0100
TZNAME:CET
DTSTART:20191027T010000
END:STANDARD
BEGIN:DAYLIGHT
TZOFFSETFROM:+0100
TZOFFSETTO:+0200
TZNAME:CEST
DTSTART:20200329T010000
END:DAYLIGHT
BEGIN:STANDARD
TZOFFSETFROM:+0200
TZOFFSETTO:+0100
TZNAME:CET
DTSTART:20201025T010000
END:STANDARD
END:VTIMEZONE
BEGIN:VEVENT
DTSTART;TZID=Europe/Berlin:20190803T210000
DTEND;TZID=Europe/Berlin:20190803T220000
DTSTAMP:20260421T112855
CREATED:20190514T125339Z
LAST-MODIFIED:20190514T125339Z
UID:15061-1564866000-1564869600@futurelab-aachen.de
SUMMARY:Guck in die Luft!
DESCRIPTION:Öffentliche Himmelsbeobachtungen sind alte Tradition in der Aachener Sternwarte.\nSie finden immer samstags abends statt. Bei klarem Himmel können ausgewählte Himmelsobjekte mit dem großen Teleskop beobachtet werden. Bei kalter Witterung bitte an warme Kleidung denken. \nBei bedecktem Himmel wird ein interessanter Lichtbildvortrag zur Einführung in die Astronomie angeboten und die Kuppel mit dem Teleskop besichtigt. Die Führung dauert etwa 90 Minuten. Die Eintrittsgelder betragen 5 Euro für Erwachsene und 3 Euro für Kinder (Abendkasse). \nEine Voranmeldung für die Samstagsführungen ist nicht erforderlich\, eine Reservierung von Plätzen nicht möglich. \nWeitere Termine
URL:https://futurelab-aachen.de/event/guck-in-die-luft/
LOCATION:Sternwarte Aachen\, Am Hangeweiher 23\, 52068 Aachen\, Deutschland
CATEGORIES:Exkursion
END:VEVENT
END:VCALENDAR