BEGIN:VCALENDAR
VERSION:2.0
PRODID:-//Future Lab Aachen - ECPv6.15.15//NONSGML v1.0//EN
CALSCALE:GREGORIAN
METHOD:PUBLISH
X-WR-CALNAME:Future Lab Aachen
X-ORIGINAL-URL:https://futurelab-aachen.de
X-WR-CALDESC:Veranstaltungen für Future Lab Aachen
REFRESH-INTERVAL;VALUE=DURATION:PT1H
X-Robots-Tag:noindex
X-PUBLISHED-TTL:PT1H
BEGIN:VTIMEZONE
TZID:Europe/Berlin
BEGIN:DAYLIGHT
TZOFFSETFROM:+0100
TZOFFSETTO:+0200
TZNAME:CEST
DTSTART:20220327T010000
END:DAYLIGHT
BEGIN:STANDARD
TZOFFSETFROM:+0200
TZOFFSETTO:+0100
TZNAME:CET
DTSTART:20221030T010000
END:STANDARD
BEGIN:DAYLIGHT
TZOFFSETFROM:+0100
TZOFFSETTO:+0200
TZNAME:CEST
DTSTART:20230326T010000
END:DAYLIGHT
BEGIN:STANDARD
TZOFFSETFROM:+0200
TZOFFSETTO:+0100
TZNAME:CET
DTSTART:20231029T010000
END:STANDARD
BEGIN:DAYLIGHT
TZOFFSETFROM:+0100
TZOFFSETTO:+0200
TZNAME:CEST
DTSTART:20240331T010000
END:DAYLIGHT
BEGIN:STANDARD
TZOFFSETFROM:+0200
TZOFFSETTO:+0100
TZNAME:CET
DTSTART:20241027T010000
END:STANDARD
END:VTIMEZONE
BEGIN:VEVENT
DTSTART;TZID=Europe/Berlin:20230602T200000
DTEND;TZID=Europe/Berlin:20230602T213000
DTSTAMP:20260421T113426
CREATED:20230424T141214Z
LAST-MODIFIED:20230523T141812Z
UID:28325-1685736000-1685741400@futurelab-aachen.de
SUMMARY:Kollektiv Turmstrasse live
DESCRIPTION:Aus einer Wismarer Wohnung raus auf die Bühnen dieser Welt – das ist Kollektiv Turmstrasse. \nUnd heute kommt KTS live zu uns nach Aachen und bringt neben ihrem Minimal Techno-Hit „Sorry\, I am late!“ ganz viel Neues mit. \n  \nDas Festival ist ein Event des Future Lab Aachen \nMehr auf IG @futurelabaachen \n \n 
URL:https://futurelab-aachen.de/event/kollektiv-turmstrasse-live/
LOCATION:Platz der Demokratie\, Büchel\, Aachen
CATEGORIES:Festival
END:VEVENT
END:VCALENDAR