BEGIN:VCALENDAR
VERSION:2.0
PRODID:-//Future Lab Aachen - ECPv6.15.15//NONSGML v1.0//EN
CALSCALE:GREGORIAN
METHOD:PUBLISH
X-WR-CALNAME:Future Lab Aachen
X-ORIGINAL-URL:https://futurelab-aachen.de
X-WR-CALDESC:Veranstaltungen für Future Lab Aachen
REFRESH-INTERVAL;VALUE=DURATION:PT1H
X-Robots-Tag:noindex
X-PUBLISHED-TTL:PT1H
BEGIN:VTIMEZONE
TZID:Europe/Berlin
BEGIN:DAYLIGHT
TZOFFSETFROM:+0100
TZOFFSETTO:+0200
TZNAME:CEST
DTSTART:20250330T010000
END:DAYLIGHT
BEGIN:STANDARD
TZOFFSETFROM:+0200
TZOFFSETTO:+0100
TZNAME:CET
DTSTART:20251026T010000
END:STANDARD
BEGIN:DAYLIGHT
TZOFFSETFROM:+0100
TZOFFSETTO:+0200
TZNAME:CEST
DTSTART:20260329T010000
END:DAYLIGHT
BEGIN:STANDARD
TZOFFSETFROM:+0200
TZOFFSETTO:+0100
TZNAME:CET
DTSTART:20261025T010000
END:STANDARD
BEGIN:DAYLIGHT
TZOFFSETFROM:+0100
TZOFFSETTO:+0200
TZNAME:CEST
DTSTART:20270328T010000
END:DAYLIGHT
BEGIN:STANDARD
TZOFFSETFROM:+0200
TZOFFSETTO:+0100
TZNAME:CET
DTSTART:20271031T010000
END:STANDARD
END:VTIMEZONE
BEGIN:VEVENT
DTSTART;TZID=Europe/Berlin:20260706T180000
DTEND;TZID=Europe/Berlin:20260706T193000
DTSTAMP:20260422T051830
CREATED:20260306T074914Z
LAST-MODIFIED:20260306T074914Z
UID:34360-1783360800-1783366200@futurelab-aachen.de
SUMMARY:Medizin & Ethik
DESCRIPTION:Die Ringvorlesung „Ethik & Medizin“ wird von einem Arbeitskreis aus Medizinstudierenden organisiert und beleuchtet aktuelle und kontroverse medizinethische Themen. Sie richtet sich an medizinisches Fachpublikum und interessierte Laien. \nDie Veranstaltung beschäftigt sich mit dem Thema „Wie entscheide ich mich in einer humanitären Zwangslage? Dilematta für Ärzte ohne Grenzen“ und findet in Hörsaal 1 im Universitätsklinikum Aachen statt. \nDer Eintritt ist kostenlos. \nMehr Infos und weitere Termine
URL:https://futurelab-aachen.de/event/medizin-ethik-10/
LOCATION:Uniklinik
CATEGORIES:Vortrag
END:VEVENT
END:VCALENDAR