BEGIN:VCALENDAR
VERSION:2.0
PRODID:-//Future Lab Aachen - ECPv6.15.15//NONSGML v1.0//EN
CALSCALE:GREGORIAN
METHOD:PUBLISH
X-WR-CALNAME:Future Lab Aachen
X-ORIGINAL-URL:https://futurelab-aachen.de
X-WR-CALDESC:Veranstaltungen für Future Lab Aachen
REFRESH-INTERVAL;VALUE=DURATION:PT1H
X-Robots-Tag:noindex
X-PUBLISHED-TTL:PT1H
BEGIN:VTIMEZONE
TZID:Europe/Berlin
BEGIN:DAYLIGHT
TZOFFSETFROM:+0100
TZOFFSETTO:+0200
TZNAME:CEST
DTSTART:20250330T010000
END:DAYLIGHT
BEGIN:STANDARD
TZOFFSETFROM:+0200
TZOFFSETTO:+0100
TZNAME:CET
DTSTART:20251026T010000
END:STANDARD
BEGIN:DAYLIGHT
TZOFFSETFROM:+0100
TZOFFSETTO:+0200
TZNAME:CEST
DTSTART:20260329T010000
END:DAYLIGHT
BEGIN:STANDARD
TZOFFSETFROM:+0200
TZOFFSETTO:+0100
TZNAME:CET
DTSTART:20261025T010000
END:STANDARD
BEGIN:DAYLIGHT
TZOFFSETFROM:+0100
TZOFFSETTO:+0200
TZNAME:CEST
DTSTART:20270328T010000
END:DAYLIGHT
BEGIN:STANDARD
TZOFFSETFROM:+0200
TZOFFSETTO:+0100
TZNAME:CET
DTSTART:20271031T010000
END:STANDARD
END:VTIMEZONE
BEGIN:VEVENT
DTSTART;TZID=Europe/Berlin:20260607T200000
DTEND;TZID=Europe/Berlin:20260607T230000
DTSTAMP:20260420T143433
CREATED:20260420T091325Z
LAST-MODIFIED:20260420T091325Z
UID:34659-1780862400-1780873200@futurelab-aachen.de
SUMMARY:Premiere: Suor Angelica
DESCRIPTION:Premiere der Oper in einem Akt von Giacomo Puccini aus „Il Trittico“: \nSchwester Angelica lebt seit Jahren im Kloster\, zurückgezogen und ganz der Pflege des klösterlichen Kräutergartens verschrieben. In ihrem Herzen trägt sie die große Sehnsucht nach ihrem Sohn\, den sie einst bei ihrer Tante zurücklassen musste. Nach Jahren stattet diese ihr einen Besuch ab und drängt Angelica\, von ihrem Erbe zurückzutreten. Fast nebenbei erfährt Angelica dabei vom\ntragischen Tod ihres Sohnes. Sie greift zum Gift – da erklingen in der Ferne Engelsstimmen … \nGiacomo Puccini plante über Jahre hinweg einen Zyklus aus drei Einaktern\, einem tragischen\, einem lyrischen und einem burlesken. »Suor Angelica« ist das lyrische Intermezzo\, eine berührende Kurzoper für ein großes Ensemble von Frauen. \nIn Kooperation mit dem Theater Aachen bringen Gesangsstudierende und das Orchester des Standorts Aachen der Hochschule für Musik und Tanz Köln unter der Leitung von Prof. Timo Handschuh dieses außergewöhnliche\, hoch emotionale Werk des beginnenden 20. Jahrhunderts im Kirchenraum zum Erklingen. \nGesangsstudierende und Orchester des Standorts Aachen der HfMT Köln\nMusikalische Leitung: Prof. Timo Handschuh\nRegie: Ramona Bartsch\nDramaturgie: Dr. Ulrich Wilker\nLicht: Manuel Michels \nWeitere Termine: 13.06.\, 20.06.\, 24.06.\, 01.07.\, 05.07 \nEintritt ab 17 Euro\, Karten an der Theaterkasse des Theater Aachen \nTelefon: 0241 4784 244 \nWeitere Infos \n \n 
URL:https://futurelab-aachen.de/event/premiere-suor-angelica/
LOCATION:Citykirche
CATEGORIES:Konzert
END:VEVENT
END:VCALENDAR