BEGIN:VCALENDAR
VERSION:2.0
PRODID:-//Future Lab Aachen - ECPv6.15.15//NONSGML v1.0//EN
CALSCALE:GREGORIAN
METHOD:PUBLISH
X-WR-CALNAME:Future Lab Aachen
X-ORIGINAL-URL:https://futurelab-aachen.de
X-WR-CALDESC:Veranstaltungen für Future Lab Aachen
REFRESH-INTERVAL;VALUE=DURATION:PT1H
X-Robots-Tag:noindex
X-PUBLISHED-TTL:PT1H
BEGIN:VTIMEZONE
TZID:Europe/Berlin
BEGIN:DAYLIGHT
TZOFFSETFROM:+0100
TZOFFSETTO:+0200
TZNAME:CEST
DTSTART:20230326T010000
END:DAYLIGHT
BEGIN:STANDARD
TZOFFSETFROM:+0200
TZOFFSETTO:+0100
TZNAME:CET
DTSTART:20231029T010000
END:STANDARD
BEGIN:DAYLIGHT
TZOFFSETFROM:+0100
TZOFFSETTO:+0200
TZNAME:CEST
DTSTART:20240331T010000
END:DAYLIGHT
BEGIN:STANDARD
TZOFFSETFROM:+0200
TZOFFSETTO:+0100
TZNAME:CET
DTSTART:20241027T010000
END:STANDARD
BEGIN:DAYLIGHT
TZOFFSETFROM:+0100
TZOFFSETTO:+0200
TZNAME:CEST
DTSTART:20250330T010000
END:DAYLIGHT
BEGIN:STANDARD
TZOFFSETFROM:+0200
TZOFFSETTO:+0100
TZNAME:CET
DTSTART:20251026T010000
END:STANDARD
END:VTIMEZONE
BEGIN:VEVENT
DTSTART;TZID=Europe/Berlin:20240708T080000
DTEND;TZID=Europe/Berlin:20240712T170000
DTSTAMP:20260421T102053
CREATED:20240326T084754Z
LAST-MODIFIED:20240326T084754Z
UID:31367-1720425600-1720803600@futurelab-aachen.de
SUMMARY:Schüler*innenuni Maschinenbau
DESCRIPTION:Zu den Sommerferien von NRW sollte mindestens die Jahrgangsstufe 10 abgeschlossen sein.\nIdealerweise belegen Teilnehmende Leistungskurs Physik oder möchten den Leistungskurs Physik belegen.\nDa das Programm auf Deutsch gehalten wird\, werden fließende Deutschkenntnisse vorausgesetzt.\n\nKurzbeschreibung \nIm Rahmen der Schüler*innenuni möchte die RWTH einen Überblick darüber geben\, wie vielfältig und abwechslungsreich ein Maschinenbaustudium ist. \nDurch den Besuch verschiedener Institute gibt es Einblicke in die Bereiche Robotik\, Produktionstechnik\, Verfahrenstechnik (Chemieingenieurwesen)\, Kunststoffverarbeitung\, Textiltechnik\, Kraftfahrzeugtechnik sowie Optik und Lasertechnik . \nNeben Vorträgen und Vorlesungen stehen Workshops und Übungen auf dem Programm. \nMehr
URL:https://futurelab-aachen.de/event/schuelerinnenuni-maschinenbau-2/
LOCATION:Campus RWTH
CATEGORIES:Event
END:VEVENT
END:VCALENDAR