BEGIN:VCALENDAR
VERSION:2.0
PRODID:-//Future Lab Aachen - ECPv6.15.15//NONSGML v1.0//EN
CALSCALE:GREGORIAN
METHOD:PUBLISH
X-WR-CALNAME:Future Lab Aachen
X-ORIGINAL-URL:https://futurelab-aachen.de
X-WR-CALDESC:Veranstaltungen für Future Lab Aachen
REFRESH-INTERVAL;VALUE=DURATION:PT1H
X-Robots-Tag:noindex
X-PUBLISHED-TTL:PT1H
BEGIN:VTIMEZONE
TZID:Europe/Berlin
BEGIN:DAYLIGHT
TZOFFSETFROM:+0100
TZOFFSETTO:+0200
TZNAME:CEST
DTSTART:20180325T010000
END:DAYLIGHT
BEGIN:STANDARD
TZOFFSETFROM:+0200
TZOFFSETTO:+0100
TZNAME:CET
DTSTART:20181028T010000
END:STANDARD
BEGIN:DAYLIGHT
TZOFFSETFROM:+0100
TZOFFSETTO:+0200
TZNAME:CEST
DTSTART:20190331T010000
END:DAYLIGHT
BEGIN:STANDARD
TZOFFSETFROM:+0200
TZOFFSETTO:+0100
TZNAME:CET
DTSTART:20191027T010000
END:STANDARD
BEGIN:DAYLIGHT
TZOFFSETFROM:+0100
TZOFFSETTO:+0200
TZNAME:CEST
DTSTART:20200329T010000
END:DAYLIGHT
BEGIN:STANDARD
TZOFFSETFROM:+0200
TZOFFSETTO:+0100
TZNAME:CET
DTSTART:20201025T010000
END:STANDARD
END:VTIMEZONE
BEGIN:VEVENT
DTSTART;TZID=Europe/Berlin:20191021T153000
DTEND;TZID=Europe/Berlin:20191021T170000
DTSTAMP:20260421T113351
CREATED:20191002T073248Z
LAST-MODIFIED:20191015T073513Z
UID:16407-1571671800-1571677200@futurelab-aachen.de
SUMMARY:We\, the six million
DESCRIPTION:Rassismus und Rechtspopulismus sind keine neuen gesellschaftlichen Phänomene. Dennoch wir aktuell in besonderer Weise herausgefordert: Antidemokratische Tendenzen\, die sich unter anderem europaweit in Wahlerfolgen rechter Parteien und in hohen Umfragewerten für nationalistische und rassistische Einstellungen zeigen\, spiegeln sich auch in der Hochschule und der Praxis Sozialer Arbeit. Das Feld des Sagbaren wird systematisch erweitert; diskriminierende Praxen wie rassistische oder sexistische Anfeindungen sind alltäglich. Die Idee eines friedlichen\, grenzfreien Europas weicht zunehmend völkisch-nationalem Denken. \n\n\nIn der Hochschule stehen Lehrende und Studierende vor der Herausforderung sich kritisch mit entsprechenden Positionen auseinanderzusetzen und entschieden dagegen vorzugehen. Die Veranstaltungsreihe Rechte Verhältnisse in Hochschule und Gesellschaft – Rassismus\, Rechtspopulismus und Extreme Rechte zum Thema machen will einen Beitrag zu dieser politischen Auseinandersetzung leisten. In unterschiedlichen Veranstaltungsformaten werden rechte Verhältnisse in der Gesellschaft und der Hochschule zum Thema gemacht. \nSo ist zum Beispiel vom 14.–26. Oktober die Ausstellung „We\, the six million“\, ein Projekt zu Lebenswegen der Opfer der Shoah im westlichen Rheinland\, in der KatHo zu sehen. Heute findet eine Führung mit anschließender Filmvorführung statt (Raum 13). \nDie Veranstaltungsreihe ist ein hochschulgruppenübergreifendes Projekt von Studierenden\, Lehrenden und des Dekanats der Katholischen Hochschule NRW\, Abteilung Aachen. Rückfragen dazu beantwortet Martin Spetsmann-Kunkel: \nm.spetsmann-kunkel@katho-nrw.de.
URL:https://futurelab-aachen.de/event/we-the-six-million-2-2/
LOCATION:Katholische Hochschule\, Robert-Schuman-Str. 25\, 52066 Aachen\, Deutschland
CATEGORIES:Ausstellung
END:VEVENT
END:VCALENDAR